BEGIN:VCALENDAR
VERSION:2.0
PRODID:-//Bündnis 90/Die Grünen in Nauheim - ECPv6.15.20//NONSGML v1.0//EN
CALSCALE:GREGORIAN
METHOD:PUBLISH
X-ORIGINAL-URL:https://www.gruene-nauheim.de
X-WR-CALDESC:Veranstaltungen für Bündnis 90/Die Grünen in Nauheim
REFRESH-INTERVAL;VALUE=DURATION:PT1H
X-Robots-Tag:noindex
X-PUBLISHED-TTL:PT1H
BEGIN:VTIMEZONE
TZID:Europe/Berlin
BEGIN:DAYLIGHT
TZOFFSETFROM:+0100
TZOFFSETTO:+0200
TZNAME:CEST
DTSTART:20240331T010000
END:DAYLIGHT
BEGIN:STANDARD
TZOFFSETFROM:+0200
TZOFFSETTO:+0100
TZNAME:CET
DTSTART:20241027T010000
END:STANDARD
BEGIN:DAYLIGHT
TZOFFSETFROM:+0100
TZOFFSETTO:+0200
TZNAME:CEST
DTSTART:20250330T010000
END:DAYLIGHT
BEGIN:STANDARD
TZOFFSETFROM:+0200
TZOFFSETTO:+0100
TZNAME:CET
DTSTART:20251026T010000
END:STANDARD
BEGIN:DAYLIGHT
TZOFFSETFROM:+0100
TZOFFSETTO:+0200
TZNAME:CEST
DTSTART:20260329T010000
END:DAYLIGHT
BEGIN:STANDARD
TZOFFSETFROM:+0200
TZOFFSETTO:+0100
TZNAME:CET
DTSTART:20261025T010000
END:STANDARD
END:VTIMEZONE
BEGIN:VEVENT
DTSTART;TZID=Europe/Berlin:20251218T193000
DTEND;TZID=Europe/Berlin:20251218T223000
DTSTAMP:20260424T111116
CREATED:20251102T102253Z
LAST-MODIFIED:20251102T102253Z
UID:4103-1766086200-1766097000@www.gruene-nauheim.de
SUMMARY:Gemeindevertretung
DESCRIPTION:https://nauheim.gremien.info/meeting/725
URL:https://www.gruene-nauheim.de/event/gemeindevertretung/
LOCATION:Bürgersaal Nauheim\, Am Sportfeld 1a\, Nauheim\, Hessen\, 64569\, Germany
CATEGORIES:Gemeindevertretung
END:VEVENT
BEGIN:VEVENT
DTSTART;TZID=Europe/Berlin:20251218T150000
DTEND;TZID=Europe/Berlin:20251218T170000
DTSTAMP:20260424T111116
CREATED:20251102T102344Z
LAST-MODIFIED:20251102T102344Z
UID:4105-1766070000-1766077200@www.gruene-nauheim.de
SUMMARY:Kommission zur Interessenvertretung von Seniorinnen und Senioren der Gemeinde Nauheim
DESCRIPTION:https://nauheim.gremien.info/meeting/719
URL:https://www.gruene-nauheim.de/event/kommission-zur-interessenvertretung-von-seniorinnen-und-senioren-der-gemeinde-nauheim/
LOCATION:Bürgersaal Nauheim\, Am Sportfeld 1a\, Nauheim\, Hessen\, 64569\, Germany
CATEGORIES:Ausschüsse,Sonstige
END:VEVENT
BEGIN:VEVENT
DTSTART;TZID=Europe/Berlin:20251215T193000
DTEND;TZID=Europe/Berlin:20251215T223000
DTSTAMP:20260424T111116
CREATED:20251102T102205Z
LAST-MODIFIED:20251102T102205Z
UID:4101-1765827000-1765837800@www.gruene-nauheim.de
SUMMARY:Haupt- und Finanzauschuss
DESCRIPTION:https://nauheim.gremien.info/meeting/735
URL:https://www.gruene-nauheim.de/event/haupt-und-finanzauschuss/
LOCATION:Bürgersaal Nauheim\, Am Sportfeld 1a\, Nauheim\, Hessen\, 64569\, Germany
CATEGORIES:Ausschüsse
END:VEVENT
BEGIN:VEVENT
DTSTART;TZID=Europe/Berlin:20251210T193000
DTEND;TZID=Europe/Berlin:20251210T210000
DTSTAMP:20260424T111116
CREATED:20251102T102118Z
LAST-MODIFIED:20251102T102118Z
UID:4099-1765395000-1765400400@www.gruene-nauheim.de
SUMMARY:Ausschuss für Bau\, Planung und Umwelt
DESCRIPTION:https://nauheim.gremien.info/meeting/713
URL:https://www.gruene-nauheim.de/event/ausschuss-fuer-bau-planung-und-umwelt/
LOCATION:Bürgersaal Nauheim\, Am Sportfeld 1a\, Nauheim\, Hessen\, 64569\, Germany
CATEGORIES:Ausschüsse
END:VEVENT
BEGIN:VEVENT
DTSTART;TZID=Europe/Berlin:20251208T193000
DTEND;TZID=Europe/Berlin:20251208T223000
DTSTAMP:20260424T111116
CREATED:20251102T101958Z
LAST-MODIFIED:20251120T111244Z
UID:4097-1765222200-1765233000@www.gruene-nauheim.de
SUMMARY:Ausschuss für Soziales\, Kultur\, Sport und Integration
DESCRIPTION:https://nauheim.gremien.info/meeting/707
URL:https://www.gruene-nauheim.de/event/ausschuss-fuer-soziales-kultur-sport-und-integration/
LOCATION:Bürgersaal Nauheim\, Am Sportfeld 1a\, Nauheim\, Hessen\, 64569\, Germany
CATEGORIES:Ausschüsse
END:VEVENT
BEGIN:VEVENT
DTSTART;TZID=Europe/Berlin:20251118T193000
DTEND;TZID=Europe/Berlin:20251118T210000
DTSTAMP:20260424T111116
CREATED:20251102T101113Z
LAST-MODIFIED:20251102T101113Z
UID:4087-1763494200-1763499600@www.gruene-nauheim.de
SUMMARY:Fraktionssitzung
DESCRIPTION:Bericht der interfraktionellen Arbeitsgruppe\, \nVorbereitung Sitzungsrunde Dezember\, \nSonstiges
URL:https://www.gruene-nauheim.de/event/fraktionssitzung-4/
LOCATION:Rathaus Nauheim\, Weingartenstraße 46-50\, Nauheim\, Hessen\, 64569\, Deutschland
CATEGORIES:Fraktionssitzung
ATTACH;FMTTYPE=image/jpeg:https://www.gruene-nauheim.de/wp-content/uploads/2025/10/Fraktionssitzung.jpg
END:VEVENT
BEGIN:VEVENT
DTSTART;TZID=Europe/Berlin:20251118T170000
DTEND;TZID=Europe/Berlin:20251118T183000
DTSTAMP:20260424T111116
CREATED:20251102T101804Z
LAST-MODIFIED:20251102T101804Z
UID:4095-1763485200-1763490600@www.gruene-nauheim.de
SUMMARY:6. Sitzung Kinder- und Jugendparlament
DESCRIPTION:https://nauheim.gremien.info/meeting/814
URL:https://www.gruene-nauheim.de/event/6-sitzung-kinder-und-jugendparlament/
LOCATION:Bürgersaal Nauheim\, Am Sportfeld 1a\, Nauheim\, Hessen\, 64569\, Germany
CATEGORIES:Ausschüsse,Sonstige
END:VEVENT
BEGIN:VEVENT
DTSTART;TZID=Europe/Berlin:20251110T190000
DTEND;TZID=Europe/Berlin:20251110T203000
DTSTAMP:20260424T111116
CREATED:20251102T101655Z
LAST-MODIFIED:20251102T101655Z
UID:4093-1762801200-1762806600@www.gruene-nauheim.de
SUMMARY:Brandschutzkommission (nicht-öffentlich)
DESCRIPTION:
URL:https://www.gruene-nauheim.de/event/brandschutzkommission-nicht-oeffentlich/
LOCATION:Feuerwehrgerätehaus Nauheim\, Außerhalb 15\, Nauheim\, 64569\, Deutschland
CATEGORIES:Sonstige
ORGANIZER;CN="Gemeinde Nauheim":MAILTO:info@nauheim.de
END:VEVENT
BEGIN:VEVENT
DTSTART;TZID=Europe/Berlin:20251109T110000
DTEND;TZID=Europe/Berlin:20251109T170000
DTSTAMP:20260424T111116
CREATED:20251102T101506Z
LAST-MODIFIED:20251102T101506Z
UID:4089-1762686000-1762707600@www.gruene-nauheim.de
SUMMARY:Kreismitgliederversammlung Bündnis 90/Die Grünen
DESCRIPTION:Begrüßung und Formalia\nBericht Kassenprüfung und Schatzmeister\nAufstellung der Kandidat*innen- Liste für die Kommunalwahl 2026\n\n3.1. Wahl…\n3.1.1. Der Versammlungsleitung\n3.1.2. Der Vertrauenspersonen und ihrer Stellvertreter*innen\n3.1.3. Der Schriftführer*in\n3.1.4. Der Wahlkommission\n3.2. Verabschiedung der Wahlordnung\n3.3. Vorstellung der Kandidat*innen\, Fragerunde und Wahl\n\n\nAnfragen\, Mitteilungen und Termine
URL:https://www.gruene-nauheim.de/event/kreismitgliederversammlung-buendnis-90-die-gruenen/
LOCATION:Bürgersaal Nauheim\, Am Sportfeld 1a\, Nauheim\, Hessen\, 64569\, Germany
CATEGORIES:Parteiveranstaltungen
ATTACH;FMTTYPE=image/jpeg:https://www.gruene-nauheim.de/wp-content/uploads/2025/10/Mitgliederversammlung.jpg
ORGANIZER;CN="B%C3%BCndnis 90/Die Gr%C3%BCnen KV Gro%C3%9F-Gerau":MAILTO:info@gg-gruene.de
END:VEVENT
BEGIN:VEVENT
DTSTART;TZID=Europe/Berlin:20251106T193000
DTEND;TZID=Europe/Berlin:20251106T210000
DTSTAMP:20260424T111116
CREATED:20251026T113130Z
LAST-MODIFIED:20251026T113254Z
UID:4067-1762457400-1762462800@www.gruene-nauheim.de
SUMMARY:Mitgliederversammlung
DESCRIPTION:Für die Tagesordnung schlagen wir euch folgende Punkte vor: \n\nBegrüßung und Formalia\nDurchführung der Wahl für die Listenaufstellung von BÜNDNIS 90/DIE GRÜNEN in der Gemeindevertretung\na. Verabschiedung der Wahlordnung\nb. Bestätigung der Wahlleitung\, Wahl der Schriftführung und Vertrauensleute\nc. Vorstellung der Kandidat*innen\nd. Wahl für die Listenaufstellung von BÜNDNIS 90/DIE GRÜNEN in der Gemeindevertretung gemäß Wahlordnung\ne. Schlussabstimmung über die Gesamtliste\nAussprache und Verabschiedung des Wahlprogramms\nAnfragen\, Mitteilungen und Termine\n\nWir möchten euch bitten\, uns nach Möglichkeit bis spätestens zum 02.10. eine kurze Rück-\nmeldung zu geben\, ob ihr kommen könnt.
URL:https://www.gruene-nauheim.de/event/mitgliederversammlung/
LOCATION:Bürgersaal Nauheim\, Am Sportfeld 1a\, Nauheim\, Hessen\, 64569\, Germany
CATEGORIES:Parteiveranstaltungen
ATTACH;FMTTYPE=image/jpeg:https://www.gruene-nauheim.de/wp-content/uploads/2025/10/Mitgliederversammlung.jpg
END:VEVENT
BEGIN:VEVENT
DTSTART;TZID=Europe/Berlin:20251104T193000
DTEND;TZID=Europe/Berlin:20251104T210000
DTSTAMP:20260424T111116
CREATED:20251102T101006Z
LAST-MODIFIED:20251102T101128Z
UID:4085-1762284600-1762290000@www.gruene-nauheim.de
SUMMARY:Fraktionssitzung
DESCRIPTION:Bericht der interfraktionellen Arbeitsgruppe\, \nNachbereitung der Gemeindevertretung\, \nAnfrage-Entwurf Kassenstand\, \nAntrags-Entwurf Friedhofssatzung\,\nSonstiges
URL:https://www.gruene-nauheim.de/event/fraktionssitzung-3/
LOCATION:Rathaus Nauheim\, Weingartenstraße 46-50\, Nauheim\, Hessen\, 64569\, Deutschland
CATEGORIES:Fraktionssitzung
ATTACH;FMTTYPE=image/jpeg:https://www.gruene-nauheim.de/wp-content/uploads/2025/10/Fraktionssitzung.jpg
END:VEVENT
BEGIN:VEVENT
DTSTART;TZID=Europe/Berlin:20251104T170000
DTEND;TZID=Europe/Berlin:20251104T183000
DTSTAMP:20260424T111116
CREATED:20251102T101557Z
LAST-MODIFIED:20251102T101557Z
UID:4091-1762275600-1762281000@www.gruene-nauheim.de
SUMMARY:Klimakommission (nicht-öffentlich)
DESCRIPTION:
URL:https://www.gruene-nauheim.de/event/klimakommission-nicht-oeffentlich/
LOCATION:Rathaus Nauheim\, Weingartenstraße 46-50\, Nauheim\, Hessen\, 64569\, Deutschland
CATEGORIES:Sonstige
ORGANIZER;CN="Gemeinde Nauheim":MAILTO:info@nauheim.de
END:VEVENT
BEGIN:VEVENT
DTSTART;TZID=Europe/Berlin:20251030T193000
DTEND;TZID=Europe/Berlin:20251030T223000
DTSTAMP:20260424T111116
CREATED:20251014T084514Z
LAST-MODIFIED:20251014T084514Z
UID:4046-1761852600-1761863400@www.gruene-nauheim.de
SUMMARY:42. Sitzung Gemeindevertretung\, Legislaturperiode 2021/2026
DESCRIPTION:https://nauheim.gremien.info/meeting/724
URL:https://www.gruene-nauheim.de/event/42-sitzung-gemeindevertretung-legislaturperiode-2021-2026/
LOCATION:Bürgersaal Nauheim\, Am Sportfeld 1a\, Nauheim\, Hessen\, 64569\, Germany
CATEGORIES:Gemeindevertretung
ATTACH;FMTTYPE=image/jpeg:https://www.gruene-nauheim.de/wp-content/uploads/2025/10/GVE.jpg
END:VEVENT
BEGIN:VEVENT
DTSTART;TZID=Europe/Berlin:20251028T193000
DTEND;TZID=Europe/Berlin:20251028T210000
DTSTAMP:20260424T111116
CREATED:20251014T084307Z
LAST-MODIFIED:20251014T084307Z
UID:4044-1761679800-1761685200@www.gruene-nauheim.de
SUMMARY:Fraktionssitzung
DESCRIPTION:Fraktionssitzung im Sitzungsrum im Rathaus in der Weingartenstraße. \nThemen: \n– Bericht aus der interfraktionellen Arbeitsgruppe Haushalt\n– Nachbereitung der Sitzungsrunde im Oktober\n– Vorbereitung der Gemeindevertretung\n– Sonstiges
URL:https://www.gruene-nauheim.de/event/fraktionssitzung-2/
LOCATION:Rathaus Nauheim\, Weingartenstraße 46-50\, Nauheim\, Hessen\, 64569\, Deutschland
CATEGORIES:Fraktionssitzung
ATTACH;FMTTYPE=image/jpeg:https://www.gruene-nauheim.de/wp-content/uploads/2025/10/Fraktionssitzung.jpg
END:VEVENT
BEGIN:VEVENT
DTSTART;TZID=Europe/Berlin:20251027T193000
DTEND;TZID=Europe/Berlin:20251027T223000
DTSTAMP:20260424T111116
CREATED:20251014T084111Z
LAST-MODIFIED:20251014T084111Z
UID:4041-1761593400-1761604200@www.gruene-nauheim.de
SUMMARY:35. Sitzung Haupt- und Finanzausschuss\, Legislaturperiode 2021/2026
DESCRIPTION:https://nauheim.gremien.info/meeting/734
URL:https://www.gruene-nauheim.de/event/35-sitzung-haupt-und-finanzausschuss-legislaturperiode-2021-2026/
LOCATION:Bürgersaal Nauheim\, Am Sportfeld 1a\, Nauheim\, Hessen\, 64569\, Germany
CATEGORIES:Ausschüsse
ATTACH;FMTTYPE=image/jpeg:https://www.gruene-nauheim.de/wp-content/uploads/2025/10/hfa.jpg
END:VEVENT
BEGIN:VEVENT
DTSTART;TZID=Europe/Berlin:20251022T193000
DTEND;TZID=Europe/Berlin:20251022T223000
DTSTAMP:20260424T111116
CREATED:20251014T083854Z
LAST-MODIFIED:20251014T083854Z
UID:4038-1761161400-1761172200@www.gruene-nauheim.de
SUMMARY:33. Sitzung Ausschuss für Bau\, Planung und Umwelt\, Legislaturperiode 2021/2026
DESCRIPTION:https://nauheim.gremien.info/meeting/712
URL:https://www.gruene-nauheim.de/event/33-sitzung-ausschuss-fuer-bau-planung-und-umwelt-legislaturperiode-2021-2026/
LOCATION:Bürgersaal Nauheim\, Am Sportfeld 1a\, Nauheim\, Hessen\, 64569\, Germany
CATEGORIES:Ausschüsse
ATTACH;FMTTYPE=image/jpeg:https://www.gruene-nauheim.de/wp-content/uploads/2025/10/Bauauschuss.jpg
END:VEVENT
BEGIN:VEVENT
DTSTART;TZID=Europe/Berlin:20251021T190000
DTEND;TZID=Europe/Berlin:20251021T210000
DTSTAMP:20260424T111116
CREATED:20250626T132219Z
LAST-MODIFIED:20251014T083650Z
UID:3987-1761073200-1761080400@www.gruene-nauheim.de
SUMMARY:#DieGrüneHorde - Der Grüne Stammtisch in Nauheim
DESCRIPTION:#diegrünehorde\, der GRÜNE Stammtisch in Nauheim geht weiter \nDie Kommunalwahl steht vor der Tür und vielleicht hast auch du Interesse bei uns mitzumachen oder willst einfach nur gerne in entspannter Atmosphäre ins Gespräch kommen. Was bewegt dich und was willst du gerne über unsere Arbeit oder aktuelle Entwicklungen erfahren? Lass uns darüber ins Gespräch kommen.\nDafür ist der GRÜNE Stammtisch genau der richtige Ort und steht allen Interessierten offen! \nIns Gespräch kommen\, gemeinsam diskutieren und austauschen\, bei leckerem Essen und Getränken. Das wollen wir gemeinsam mit euch: \nAm 21. Oktober 2025 ab 19:00 Uhr ist es endlich wieder so weit.\nKomm gerne vorbei ins Nero’s (Georg-Mischlich-Platz 3\, 64569 Nauheim)  \nWir freuen uns auf alle Interessierten
URL:https://www.gruene-nauheim.de/event/diegruenehorde-der-gruene-stammtisch-in-nauheim/
LOCATION:Nero’s\, Georg-Mischlich-Platz 3\, Nauheim\, Hessen\, 64569\, Germany
CATEGORIES:Parteiveranstaltungen,Sonstige
ATTACH;FMTTYPE=image/jpeg:https://www.gruene-nauheim.de/wp-content/uploads/2025/06/gruenehordeneros.jpg
END:VEVENT
BEGIN:VEVENT
DTSTART;TZID=Europe/Berlin:20251020T193000
DTEND;TZID=Europe/Berlin:20251020T223000
DTSTAMP:20260424T111116
CREATED:20251014T083257Z
LAST-MODIFIED:20251014T083257Z
UID:4030-1760988600-1760999400@www.gruene-nauheim.de
SUMMARY:31. Sitzung Ausschuss für Soziales\, Kultur\, Sport und Integration\, Legislaturperiode 2021/2026
DESCRIPTION:https://nauheim.gremien.info/meeting/706
URL:https://www.gruene-nauheim.de/event/31-sitzung-ausschuss-fuer-soziales-kultur-sport-und-integration-legislaturperiode-2021-2026/
LOCATION:Bürgersaal Nauheim\, Am Sportfeld 1a\, Nauheim\, Hessen\, 64569\, Germany
CATEGORIES:Ausschüsse
ATTACH;FMTTYPE=image/jpeg:https://www.gruene-nauheim.de/wp-content/uploads/2025/10/Sozialausschuss.jpg
END:VEVENT
BEGIN:VEVENT
DTSTART;TZID=Europe/Berlin:20251014T193000
DTEND;TZID=Europe/Berlin:20251014T210000
DTSTAMP:20260424T111116
CREATED:20251014T082925Z
LAST-MODIFIED:20251014T082925Z
UID:4027-1760470200-1760475600@www.gruene-nauheim.de
SUMMARY:Fraktionssitzung
DESCRIPTION:Fraktionssitzung im Sitzungsrum im Rathaus in der Weingartenstraße. \nThemen: \n– Bericht aus der interfraktionellen Arbeitsgruppe Haushalt\n– Vorbereitung der Sitzungsrunde im Oktober\, Anträge und Anfragen\n– Vorbereitung ergänzende Anfrage und PM zum Thema Vergabegrenzen\n– Sonstiges
URL:https://www.gruene-nauheim.de/event/fraktionssitzung/
LOCATION:Rathaus Nauheim\, Weingartenstraße 46-50\, Nauheim\, Hessen\, 64569\, Deutschland
CATEGORIES:Fraktionssitzung
ATTACH;FMTTYPE=image/jpeg:https://www.gruene-nauheim.de/wp-content/uploads/2025/10/Fraktionssitzung.jpg
END:VEVENT
BEGIN:VEVENT
DTSTART;VALUE=DATE:20250705
DTEND;VALUE=DATE:20250818
DTSTAMP:20260424T111116
CREATED:20250626T134342Z
LAST-MODIFIED:20250626T134522Z
UID:3996-1751673600-1755475199@www.gruene-nauheim.de
SUMMARY:Sommerferien = Sommerpause
DESCRIPTION:Mit Beginn der Sommerferien machen auch wir Sommerpause. Nun ja\, zumindest fast. Und zumindest ein bisschen. Wenn auch wir vereinzelt zu verschiedenen Terminen erscheinen müssen.
URL:https://www.gruene-nauheim.de/event/sommerferien-sommerpause/
LOCATION:Nauheim\, Nauheim\, Hessen\, 64569\, Germany
CATEGORIES:Sonstige
ATTACH;FMTTYPE=image/jpeg:https://www.gruene-nauheim.de/wp-content/uploads/2025/06/sommerpause.jpg
END:VEVENT
BEGIN:VEVENT
DTSTART;TZID=Europe/Berlin:20250626T193000
DTEND;TZID=Europe/Berlin:20250626T230000
DTSTAMP:20260424T111116
CREATED:20250626T132933Z
LAST-MODIFIED:20250626T132933Z
UID:3992-1750966200-1750978800@www.gruene-nauheim.de
SUMMARY:39. Sitzung der Gemeindevertretung Nauheim (Haushalt)
DESCRIPTION:https://nauheim.gremien.info/meeting?id=2025-GemVertr-165
URL:https://www.gruene-nauheim.de/event/39-sitzung-der-gemeindevertretung-nauheim-haushalt/
LOCATION:Bürgersaal Nauheim\, Am Sportfeld 1a\, Nauheim\, Hessen\, 64569\, Germany
CATEGORIES:Gemeindevertretung
ATTACH;FMTTYPE=image/jpeg:https://www.gruene-nauheim.de/wp-content/uploads/2025/06/GVE39_26062025.jpg
END:VEVENT
END:VCALENDAR